BEGIN:VCALENDAR
METHOD:PUBLISH
PRODID:-//doubleknot.com//CalenderEvent MIMEDIR//EN
VERSION:2.0
BEGIN:VEVENT
UID:3133892-20260418T140000Z-20260420T010000Z@doubleknot.com
CREATED:20260127T185608Z
LAST-MODIFIED:20260415T020202Z
DTSTAMP:20260423T011414Z
DTSTART:20260418T140000Z
DTEND:20260420T010000Z
LOCATION:26983 Tapia Canyon, Castaic, CA 91384, US
CATEGORIES:
DESCRIPTION: \n   \n  \n   \n  \n  \n  \n  \n  \n Bill Hart IOLS &amp; BALOO Training Spring 2026 \n  \n April 18th &amp; 19th \n  \n Jack Bones Equestrian Center \n  \n $50 per person \n  \n  \n   \n  \n  \n  \n  \n 	 \n 		 \n 			 \n 			  \n 			 \n 		 \n 		 \n 			Click Here For Flyer \n 			  \n 			Click Here For Flyer \n 		 \n 	 \n  \n  \n  \n  \n   \n 
SUMMARY:BH 2026 Baloo/ IOLS Spring
PRIORITY:5
BEGIN:VALARM
TRIGGER:PT15M
ACTION:DISPLAY
DESCRIPTION:Reminder
PRIORITY:5
END:VALARM
END:VEVENT
END:VCALENDAR
